BEGIN:VCALENDAR
VERSION:2.0
PRODID:-//Institute for Holocaust Education - ECPv6.15.20//NONSGML v1.0//EN
CALSCALE:GREGORIAN
METHOD:PUBLISH
X-ORIGINAL-URL:https://ihene.org
X-WR-CALDESC:Events for Institute for Holocaust Education
REFRESH-INTERVAL;VALUE=DURATION:PT1H
X-Robots-Tag:noindex
X-PUBLISHED-TTL:PT1H
BEGIN:VTIMEZONE
TZID:UTC
BEGIN:STANDARD
TZOFFSETFROM:+0000
TZOFFSETTO:+0000
TZNAME:UTC
DTSTART:20250101T000000
END:STANDARD
END:VTIMEZONE
BEGIN:VEVENT
DTSTART;TZID=UTC:20260112T000000
DTEND;TZID=UTC:20260112T000000
DTSTAMP:20260424T021930
CREATED:20250711T211635Z
LAST-MODIFIED:20250711T211635Z
UID:3413-1768176000-1768176000@ihene.org
SUMMARY:Advisory Board Meeting
DESCRIPTION:
URL:https://ihene.org/event/advisory-board-meeting-7/
END:VEVENT
END:VCALENDAR