BEGIN:VCALENDAR
VERSION:2.0
PRODID:-//Institute for Holocaust Education - ECPv6.15.20//NONSGML v1.0//EN
CALSCALE:GREGORIAN
METHOD:PUBLISH
X-WR-CALNAME:Institute for Holocaust Education
X-ORIGINAL-URL:https://ihene.org
X-WR-CALDESC:Events for Institute for Holocaust Education
REFRESH-INTERVAL;VALUE=DURATION:PT1H
X-Robots-Tag:noindex
X-PUBLISHED-TTL:PT1H
BEGIN:VTIMEZONE
TZID:UTC
BEGIN:STANDARD
TZOFFSETFROM:+0000
TZOFFSETTO:+0000
TZNAME:UTC
DTSTART:20240101T000000
END:STANDARD
END:VTIMEZONE
BEGIN:VEVENT
DTSTART;TZID=UTC:20251111T080000
DTEND;TZID=UTC:20251122T170000
DTSTAMP:20260422T042142
CREATED:20250822T160059Z
LAST-MODIFIED:20250822T160059Z
UID:3450-1762848000-1763830800@ihene.org
SUMMARY:Anne Frank Traveling Exhibit: Bryan High School
DESCRIPTION:
URL:https://ihene.org/event/anne-frank-traveling-exhibit-bryan-high-school/
END:VEVENT
BEGIN:VEVENT
DTSTART;TZID=UTC:20251120T113000
DTEND;TZID=UTC:20251120T130000
DTSTAMP:20260422T042142
CREATED:20250814T155647Z
LAST-MODIFIED:20250814T155706Z
UID:3430-1763638200-1763643600@ihene.org
SUMMARY:November Lunch & Learn: Helen Pankowsky
DESCRIPTION:Helen Pankowsky will speak on the artwork of her grandmother\, Holocaust Survivor\, Hanna Davidson Pankowsky  \nThis series is presented by the Institute for Holocaust Education and seeks to educate\, engage and empower the community through discussion\, presentations and informative speakers about topics pertaining to the Holocaust. All Third Thursday presentations are offered via Zoom\, from 11:30-1PM on their respective days. \nTo RSVP and gain access to the Zoom information for any of these IHE Third Thursday lunch and Learn programs\, please reach out to Scott Littky\, Executive Director of IHE\, at slittky@ihene.org
URL:https://ihene.org/event/november-lunch-learn-helen-pankowsky/
END:VEVENT
END:VCALENDAR