BEGIN:VCALENDAR
VERSION:2.0
PRODID:-//Institute for Holocaust Education - ECPv6.15.20//NONSGML v1.0//EN
CALSCALE:GREGORIAN
METHOD:PUBLISH
X-ORIGINAL-URL:https://ihene.org
X-WR-CALDESC:Events for Institute for Holocaust Education
REFRESH-INTERVAL;VALUE=DURATION:PT1H
X-Robots-Tag:noindex
X-PUBLISHED-TTL:PT1H
BEGIN:VTIMEZONE
TZID:America/North_Dakota/Center
BEGIN:DAYLIGHT
TZOFFSETFROM:-0600
TZOFFSETTO:-0500
TZNAME:CDT
DTSTART:20240310T080000
END:DAYLIGHT
BEGIN:STANDARD
TZOFFSETFROM:-0500
TZOFFSETTO:-0600
TZNAME:CST
DTSTART:20241103T070000
END:STANDARD
BEGIN:DAYLIGHT
TZOFFSETFROM:-0600
TZOFFSETTO:-0500
TZNAME:CDT
DTSTART:20250309T080000
END:DAYLIGHT
BEGIN:STANDARD
TZOFFSETFROM:-0500
TZOFFSETTO:-0600
TZNAME:CST
DTSTART:20251102T070000
END:STANDARD
BEGIN:DAYLIGHT
TZOFFSETFROM:-0600
TZOFFSETTO:-0500
TZNAME:CDT
DTSTART:20260308T080000
END:DAYLIGHT
BEGIN:STANDARD
TZOFFSETFROM:-0500
TZOFFSETTO:-0600
TZNAME:CST
DTSTART:20261101T070000
END:STANDARD
END:VTIMEZONE
BEGIN:VTIMEZONE
TZID:UTC
BEGIN:STANDARD
TZOFFSETFROM:+0000
TZOFFSETTO:+0000
TZNAME:UTC
DTSTART:20240101T000000
END:STANDARD
END:VTIMEZONE
BEGIN:VEVENT
DTSTART;TZID=America/North_Dakota/Center:20250505T183000
DTEND;TZID=America/North_Dakota/Center:20250505T193000
DTSTAMP:20260424T143239
CREATED:20240610T181730Z
LAST-MODIFIED:20241002T152951Z
UID:3114-1746469800-1746473400@ihene.org
SUMMARY:Tribute to the Rescuers Essay Contest: Award Ceremony 2025
DESCRIPTION:
URL:https://ihene.org/event/tribute-to-the-rescuers-essay-contest-award-ceremony-2/
END:VEVENT
BEGIN:VEVENT
DTSTART;TZID=America/North_Dakota/Center:20250512T080000
DTEND;TZID=America/North_Dakota/Center:20250512T170000
DTSTAMP:20260424T143239
CREATED:20240610T191145Z
LAST-MODIFIED:20241002T152941Z
UID:3137-1747036800-1747069200@ihene.org
SUMMARY:Advisory Board Meeting
DESCRIPTION:
URL:https://ihene.org/event/advisory-board-meeting-5/
END:VEVENT
BEGIN:VEVENT
DTSTART;TZID=UTC:20250515T113000
DTEND;TZID=UTC:20250515T130000
DTSTAMP:20260424T143239
CREATED:20241007T195816Z
LAST-MODIFIED:20241007T195816Z
UID:3298-1747308600-1747314000@ihene.org
SUMMARY:Third Thursday Lunch and Learn
DESCRIPTION:This series is presented by the Institute for Holocaust Education and seeks to educate\, engage\, and empower the community through discussion\, presentations\, and informative speakers about topics pertaining to the Holocaust and other genocides. \nAll Third Thursday presentations are offered via Zoom\, from 11:30-1PM on their respective days. \nFor more information regarding the Third Thursday programming at IHE\, to RSVP for a program\, or if you have any ideas for future programs\, please reach out to Scott Littky\, Executive Director of IHE\, at slittky@ihene.org 
URL:https://ihene.org/event/third-thursday-lunch-and-learn-9/
LOCATION:ZOOM
END:VEVENT
END:VCALENDAR