BEGIN:VCALENDAR
VERSION:2.0
PRODID:-//Institute for Holocaust Education - ECPv6.15.20//NONSGML v1.0//EN
CALSCALE:GREGORIAN
METHOD:PUBLISH
X-ORIGINAL-URL:https://ihene.org
X-WR-CALDESC:Events for Institute for Holocaust Education
REFRESH-INTERVAL;VALUE=DURATION:PT1H
X-Robots-Tag:noindex
X-PUBLISHED-TTL:PT1H
BEGIN:VTIMEZONE
TZID:America/North_Dakota/Center
BEGIN:DAYLIGHT
TZOFFSETFROM:-0600
TZOFFSETTO:-0500
TZNAME:CDT
DTSTART:20230312T080000
END:DAYLIGHT
BEGIN:STANDARD
TZOFFSETFROM:-0500
TZOFFSETTO:-0600
TZNAME:CST
DTSTART:20231105T070000
END:STANDARD
BEGIN:DAYLIGHT
TZOFFSETFROM:-0600
TZOFFSETTO:-0500
TZNAME:CDT
DTSTART:20240310T080000
END:DAYLIGHT
BEGIN:STANDARD
TZOFFSETFROM:-0500
TZOFFSETTO:-0600
TZNAME:CST
DTSTART:20241103T070000
END:STANDARD
BEGIN:DAYLIGHT
TZOFFSETFROM:-0600
TZOFFSETTO:-0500
TZNAME:CDT
DTSTART:20250309T080000
END:DAYLIGHT
BEGIN:STANDARD
TZOFFSETFROM:-0500
TZOFFSETTO:-0600
TZNAME:CST
DTSTART:20251102T070000
END:STANDARD
END:VTIMEZONE
BEGIN:VTIMEZONE
TZID:UTC
BEGIN:STANDARD
TZOFFSETFROM:+0000
TZOFFSETTO:+0000
TZNAME:UTC
DTSTART:20230101T000000
END:STANDARD
END:VTIMEZONE
BEGIN:VEVENT
DTSTART;TZID=America/North_Dakota/Center:20241101T080000
DTEND;TZID=America/North_Dakota/Center:20241129T080000
DTSTAMP:20260424T235543
CREATED:20240610T142900Z
LAST-MODIFIED:20241002T162224Z
UID:3103-1730448000-1732867200@ihene.org
SUMMARY:Portraits of Survival Exhibit
DESCRIPTION:
URL:https://ihene.org/event/portraits-of-survival-exhibit/
END:VEVENT
BEGIN:VEVENT
DTSTART;TZID=America/North_Dakota/Center:20241110T130000
DTEND;TZID=America/North_Dakota/Center:20241110T160000
DTSTAMP:20260424T235543
CREATED:20240610T143456Z
LAST-MODIFIED:20241002T162152Z
UID:3105-1731243600-1731254400@ihene.org
SUMMARY:Artists Giving Back - Speaker Suzanne Horwich
DESCRIPTION:Learn more from Suzanne Horwich and how Artists Giving Back partners with organizations worldwide that are meeting the primary needs of refugees such as food\, shelter and medicine. Artists Giving Back has observed in refugee crisis situations that the secondary needs are often overlooked. Meeting the emotional needs\, creative needs and healing the heart are important and that is their mission! They work to return dignity and build community to refugee populations worldwide through our art programming and art shows\, thus giving these populations something to work towards\, instilling hope and a sense of pride for all their hard work.
URL:https://ihene.org/event/artists-giving-back-speaker-suzanne-horwich/
END:VEVENT
BEGIN:VEVENT
DTSTART;TZID=UTC:20241111T080000
DTEND;TZID=UTC:20241111T170000
DTSTAMP:20260424T235543
CREATED:20240610T191042Z
LAST-MODIFIED:20240610T191042Z
UID:3131-1731312000-1731344400@ihene.org
SUMMARY:Advisory Board Meeting
DESCRIPTION:
URL:https://ihene.org/event/advisory-board-meeting-2/
END:VEVENT
BEGIN:VEVENT
DTSTART;TZID=UTC:20241121T113000
DTEND;TZID=UTC:20241121T130000
DTSTAMP:20260424T235543
CREATED:20241007T195236Z
LAST-MODIFIED:20241007T195236Z
UID:3286-1732188600-1732194000@ihene.org
SUMMARY:Third Thursday Lunch and Learn
DESCRIPTION:This series is presented by the Institute for Holocaust Education and seeks to educate\, engage\, and empower the community through discussion\, presentations\, and informative speakers about topics pertaining to the Holocaust and other genocides. \nAll Third Thursday presentations are offered via Zoom\, from 11:30-1PM on their respective days. \nFor more information regarding the Third Thursday programming at IHE\, to RSVP for a program\, or if you have any ideas for future programs\, please reach out to Scott Littky\, Executive Director of IHE\, at slittky@ihene.org 
URL:https://ihene.org/event/third-thursday-lunch-and-learn-3/
LOCATION:ZOOM
END:VEVENT
END:VCALENDAR