BEGIN:VCALENDAR
VERSION:2.0
PRODID:-//Institute for Holocaust Education - ECPv6.15.20//NONSGML v1.0//EN
CALSCALE:GREGORIAN
METHOD:PUBLISH
X-ORIGINAL-URL:https://ihene.org
X-WR-CALDESC:Events for Institute for Holocaust Education
REFRESH-INTERVAL;VALUE=DURATION:PT1H
X-Robots-Tag:noindex
X-PUBLISHED-TTL:PT1H
BEGIN:VTIMEZONE
TZID:UTC
BEGIN:STANDARD
TZOFFSETFROM:+0000
TZOFFSETTO:+0000
TZNAME:UTC
DTSTART:20230101T000000
END:STANDARD
END:VTIMEZONE
BEGIN:VEVENT
DTSTART;TZID=UTC:20241006T190000
DTEND;TZID=UTC:20241006T203000
DTSTAMP:20260425T013517
CREATED:20241007T192103Z
LAST-MODIFIED:20241007T192103Z
UID:3274-1728241200-1728246600@ihene.org
SUMMARY:A Life Well Lived: An Account of David Kaufmann
DESCRIPTION:OCT 6 | 7PM | DOCUMENTARY FILM \nFree Admission – No registration required \nThe College of Communication\, Fine Arts and Media in conjunction with the Institute for Holocaust Education\, B’nai B’rith Monsky Lodge\, and the UNO Schwalb Center for Israel and Jewish Studies\, present a screening of “A Life Well Lived: An Account of David Kaufmann” \nThe movie tells the remarkable true story of David Kaufmann\, a central Nebraska businessman\, community leader\, and philanthropist\, whose actions impacted countless lives.
URL:https://ihene.org/event/a-life-well-lived-an-account-of-david-kaufmann/
LOCATION:JCC Omaha\, 333 S. 132nd St.\, Omaha
END:VEVENT
END:VCALENDAR