BEGIN:VCALENDAR
VERSION:2.0
PRODID:-//Institute for Holocaust Education - ECPv6.15.20//NONSGML v1.0//EN
CALSCALE:GREGORIAN
METHOD:PUBLISH
X-ORIGINAL-URL:https://ihene.org
X-WR-CALDESC:Events for Institute for Holocaust Education
REFRESH-INTERVAL;VALUE=DURATION:PT1H
X-Robots-Tag:noindex
X-PUBLISHED-TTL:PT1H
BEGIN:VTIMEZONE
TZID:UTC
BEGIN:STANDARD
TZOFFSETFROM:+0000
TZOFFSETTO:+0000
TZNAME:UTC
DTSTART:20230101T000000
END:STANDARD
END:VTIMEZONE
BEGIN:VEVENT
DTSTART;TZID=UTC:20240909T080000
DTEND;TZID=UTC:20240909T170000
DTSTAMP:20260425T030954
CREATED:20240610T191018Z
LAST-MODIFIED:20240610T191018Z
UID:3129-1725868800-1725901200@ihene.org
SUMMARY:Advisory Board Meeting
DESCRIPTION:
URL:https://ihene.org/event/advisory-board-meeting/
END:VEVENT
BEGIN:VEVENT
DTSTART;TZID=UTC:20240919T113000
DTEND;TZID=UTC:20240919T130000
DTSTAMP:20260425T030954
CREATED:20241007T195156Z
LAST-MODIFIED:20241007T195156Z
UID:3284-1726745400-1726750800@ihene.org
SUMMARY:Third Thursday Lunch and Learn
DESCRIPTION:This series is presented by the Institute for Holocaust Education and seeks to educate\, engage\, and empower the community through discussion\, presentations\, and informative speakers about topics pertaining to the Holocaust and other genocides. \nAll Third Thursday presentations are offered via Zoom\, from 11:30-1PM on their respective days. \nFor more information regarding the Third Thursday programming at IHE\, to RSVP for a program\, or if you have any ideas for future programs\, please reach out to Scott Littky\, Executive Director of IHE\, at slittky@ihene.org 
URL:https://ihene.org/event/third-thursday-lunch-and-learn-2/
LOCATION:ZOOM
END:VEVENT
BEGIN:VEVENT
DTSTART;TZID=UTC:20240919T170000
DTEND;TZID=UTC:20240919T200000
DTSTAMP:20260425T030954
CREATED:20241007T194353Z
LAST-MODIFIED:20241007T194501Z
UID:3277-1726765200-1726776000@ihene.org
SUMMARY: Nebraska Teacher Inservice Focusing on Holocaust Education and Primary Sources
DESCRIPTION:The UNL Harris Center for Judaic Studies offers a Nebraska Teacher Inservice Focusing on Holocaust Education and Primary Sources \nThursday\, September 19\, 2024 University of Nebraska-Lincoln @ Nebraska Union \nRegister HERE \nThis Inservice will explore resources from the Nebraska Stories of Humanity: Holocaust Survivors & WWII Veterans Network Portal & Educational Website in partnership with the Teaching with Primary Sources\, Midwest Region facilitators\, a program funded by the Library of Congress. Together\, we will learn about using the Library of Congress online materials and create hands-on tools to integrate these and our community partners’ materials into your classroom curricula. Open to all content areas educators who incorporate Holocaust studies and primary sources in their teaching materials. \n\n\n\nNebraska Teacher Inservice Schedule\n\n\n4:00 – 5:00\nPresentation on the Nebraska Stories of Humanities Website\n\n\n5:00 – 6:00\nTeaching with Primary Sources exploration and content\n\n\n6:00 – 6:30\nHosted Dinner\n\n\n6:30 – 8:00\nDiscovering Your Connections – Interactive Session\n\n\n\n  \n\n\n\nJOIN US at nearby History Nebraska in Downtown Lincoln BEFORE the Inservice\n\n\nTour the exhibitions curated by the Institute for Holocaust Education\n\n\n1:00 – 3:00\nPortraits of Survival – photo exhibit by David Radler \nThe True Wartime Escape: Margret & H. A. Rey’s Journey from France\n\n\n\n 
URL:https://ihene.org/event/nebraska-teacher-inservice-focusing-on-holocaust-education-and-primary-sources/
END:VEVENT
END:VCALENDAR