BEGIN:VCALENDAR
VERSION:2.0
PRODID:-//Institute for Holocaust Education - ECPv6.15.20//NONSGML v1.0//EN
CALSCALE:GREGORIAN
METHOD:PUBLISH
X-ORIGINAL-URL:https://ihene.org
X-WR-CALDESC:Events for Institute for Holocaust Education
REFRESH-INTERVAL;VALUE=DURATION:PT1H
X-Robots-Tag:noindex
X-PUBLISHED-TTL:PT1H
BEGIN:VTIMEZONE
TZID:UTC
BEGIN:STANDARD
TZOFFSETFROM:+0000
TZOFFSETTO:+0000
TZNAME:UTC
DTSTART:20230101T000000
END:STANDARD
END:VTIMEZONE
BEGIN:VEVENT
DTSTART;VALUE=DATE:20240401
DTEND;VALUE=DATE:20240501
DTSTAMP:20260425T111724
CREATED:20230512T160005Z
LAST-MODIFIED:20230512T160014Z
UID:2266-1711929600-1714521599@ihene.org
SUMMARY:Art and the Holocaust Exhibit
DESCRIPTION:
URL:https://ihene.org/event/art-and-the-holocaust-exhibit-starts/
END:VEVENT
BEGIN:VEVENT
DTSTART;TZID=UTC:20240408T183000
DTEND;TZID=UTC:20240408T193000
DTSTAMP:20260425T111724
CREATED:20230512T160329Z
LAST-MODIFIED:20230512T160329Z
UID:2270-1712601000-1712604600@ihene.org
SUMMARY:Art and the Holocaust Reception
DESCRIPTION:
URL:https://ihene.org/event/art-and-the-holocaust-reception-2/
END:VEVENT
BEGIN:VEVENT
DTSTART;TZID=UTC:20240418T113000
DTEND;TZID=UTC:20240418T130000
DTSTAMP:20260425T111724
CREATED:20230512T160403Z
LAST-MODIFIED:20230512T161403Z
UID:2272-1713439800-1713445200@ihene.org
SUMMARY:Third Thursday Lunch and Learn Series
DESCRIPTION:
URL:https://ihene.org/event/third-thursday-lunch-and-learn-series-11/
END:VEVENT
END:VCALENDAR