BEGIN:VCALENDAR
VERSION:2.0
PRODID:-//Institute for Holocaust Education - ECPv6.15.20//NONSGML v1.0//EN
CALSCALE:GREGORIAN
METHOD:PUBLISH
X-ORIGINAL-URL:https://ihene.org
X-WR-CALDESC:Events for Institute for Holocaust Education
REFRESH-INTERVAL;VALUE=DURATION:PT1H
X-Robots-Tag:noindex
X-PUBLISHED-TTL:PT1H
BEGIN:VTIMEZONE
TZID:UTC
BEGIN:STANDARD
TZOFFSETFROM:+0000
TZOFFSETTO:+0000
TZNAME:UTC
DTSTART:20250101T000000
END:STANDARD
END:VTIMEZONE
BEGIN:VEVENT
DTSTART;VALUE=DATE:20260323
DTEND;VALUE=DATE:20260328
DTSTAMP:20260425T094305
CREATED:20260310T183103Z
LAST-MODIFIED:20260310T183103Z
UID:3537-1774224000-1774655999@ihene.org
SUMMARY:Week of Understanding
DESCRIPTION:The 16th annual Week of Understanding will take place March 23–27. Educators can sign up now to bring second & third-generation Holocaust survivor testimony to students in the Omaha metro area. Register here: https://ihene.org/…/week-of-understanding-registration/
URL:https://ihene.org/event/week-of-understanding-4/
ORGANIZER;CN="IHE":MAILTO:jnesbit@ihene.org
END:VEVENT
BEGIN:VEVENT
DTSTART;TZID=UTC:20260325T183000
DTEND;TZID=UTC:20260325T193000
DTSTAMP:20260425T094305
CREATED:20260310T182845Z
LAST-MODIFIED:20260310T182845Z
UID:3531-1774463400-1774467000@ihene.org
SUMMARY:Week of Understanding at the Durham
DESCRIPTION:For 50 years\, Abe Piasek carried in silence the unfathomed weight of surviving Nazi labor and death camps. In time\, he knew he needed to share his experience\, doing so at schools\, churches\, community centers and military bases. Before his passing in 2020\, Abe asked his friend Steve Goldberg\, an educator\, to keep telling his story — a story of a 13-year-old boy being taken away from his family and never seeing his parents or little sister again.\n\n\nAbe’s legacy continues on March 25 at The Durham Museum\, as part of the Institute for Holocaust Education lecture series. We are honored to welcome Steve Goldberg\, who will share with our audience Abe’s story of pain\, courage and healing.\n\n\nTo Register: DurhamMuseum.org/holocaust-education
URL:https://ihene.org/event/week-of-understanding-at-the-durham/
LOCATION:The Durham Museum
ORGANIZER;CN="IHE":MAILTO:jnesbit@ihene.org
END:VEVENT
BEGIN:VEVENT
DTSTART;TZID=UTC:20260413T183000
DTEND;TZID=UTC:20260413T193000
DTSTAMP:20260425T094305
CREATED:20260310T183754Z
LAST-MODIFIED:20260409T175514Z
UID:3542-1776105000-1776108600@ihene.org
SUMMARY:Art & The Holocaust Reception
DESCRIPTION:View the work of talented middle school artists who participated in Art & the Holocaust during a special reception in the Gallery. \nFor more information about the program\, visit: https://ihene.org/for-students/art-the-holocaust/
URL:https://ihene.org/event/art-the-holocaust-reception/
LOCATION:JCC Omaha\, 333 S. 132nd St.\, Omaha
ORGANIZER;CN="IHE":MAILTO:jnesbit@ihene.org
END:VEVENT
BEGIN:VEVENT
DTSTART;TZID=UTC:20260415T183000
DTEND;TZID=UTC:20260415T193000
DTSTAMP:20260425T094305
CREATED:20260409T142155Z
LAST-MODIFIED:20260409T142919Z
UID:3559-1776277800-1776281400@ihene.org
SUMMARY:Omaha Yom HaShoah Commemoration
DESCRIPTION:We pause to remember the six million Jews and the millions of others who were murdered in Nazi Europe—and all that was lost with them. \nWe honor the living: those who miraculously survived the Holocaust\, as well as their children and grandchildren who carry their legacy forward. \nThe most meaningful way to observe Yom HaShoah is together\, as a community. In doing so\, we acknowledge not only a profound Jewish loss\, but a loss to all humanity. \nJoin us Wednesday\, April 15\, to mark this day.
URL:https://ihene.org/event/omaha-yom-hashoah-commemoration/
LOCATION:JCC Omaha\, 333 S. 132nd St.\, Omaha
ORGANIZER;CN="IHE":MAILTO:jnesbit@ihene.org
END:VEVENT
BEGIN:VEVENT
DTSTART;TZID=UTC:20260416T113000
DTEND;TZID=UTC:20260416T130000
DTSTAMP:20260425T094305
CREATED:20260312T155519Z
LAST-MODIFIED:20260312T155737Z
UID:3545-1776339000-1776344400@ihene.org
SUMMARY:Lunch and Learn with Dr. Geralyn Crain
DESCRIPTION:Dr. Crain will share the story of her mother\, Alice Kern\, a Holocaust survivor born in Romania. At 21\, Kern was deported to Auschwitz and was liberated from Bergen Belsen. Her memoir\, “Tapestry of Hope\,”recounts her survival\, and the documentary\, “Journey to Remember\,” follows her return to these sites with her daughters. \nTo register: igfn.us/form/x1OUhg
URL:https://ihene.org/event/lunch-and-learn-with-dr-geralyn-crain/
ORGANIZER;CN="IHE":MAILTO:jnesbit@ihene.org
END:VEVENT
BEGIN:VEVENT
DTSTART;TZID=UTC:20260419T140000
DTEND;TZID=UTC:20260419T150000
DTSTAMP:20260425T094305
CREATED:20260409T142423Z
LAST-MODIFIED:20260409T142954Z
UID:3562-1776607200-1776610800@ihene.org
SUMMARY:State Yom HaShoah Commemoration
DESCRIPTION:We pause to remember the six million Jews and the millions of others who were murdered in Nazi Europe—and all that was lost with them. \nWe honor the living: those who miraculously survived the Holocaust\, as well as their children and grandchildren who carry their legacy forward. \nThe most meaningful way to observe Yom HaShoah is together\, as a community. In doing so\, we acknowledge not only a profound Jewish loss\, but a loss to all humanity. \nJoin us Wednesday\, April 19\, to mark this day.
URL:https://ihene.org/event/state-yom-hashoah-commemoration/
LOCATION:Nebraska State Capitol\, 1445 K St\, Lincoln\, NE\, 68508\, United States
ORGANIZER;CN="IHE":MAILTO:jnesbit@ihene.org
END:VEVENT
BEGIN:VEVENT
DTSTART;TZID=UTC:20260430T113000
DTEND;TZID=UTC:20260430T130000
DTSTAMP:20260425T094305
CREATED:20260409T191939Z
LAST-MODIFIED:20260409T192003Z
UID:3571-1777548600-1777554000@ihene.org
SUMMARY:Tapestry: Morning Has Broken Reflecting on Israel and the Diaspora Relationship since 10/7
DESCRIPTION:Morning Has Broken: Reflecting on Israel and the Diaspora Relationship Since October 7 \nJoin us for a thoughtful and engaging Tapestry event exploring the evolving relationship between Israel and the global Jewish diaspora in the aftermath of October 7. This open-to-the-public program is sponsored by the Institute for Holocaust Education and the Jewish Community Relations Council. \nBring your own lunch and gain insight from featured Tapestry speaker Dr. Erica Brown\, a respected scholar and author. The session will offer space for learning\, reflection\, and meaningful conversation. \nRegistration is required.
URL:https://ihene.org/event/tapestry-morning-has-broken-reflecting-on-israel-and-the-diaspora-relationship-since-10-7/
LOCATION:JCC Omaha\, 333 S. 132nd St.\, Omaha
ORGANIZER;CN="IHE":MAILTO:jnesbit@ihene.org
END:VEVENT
BEGIN:VEVENT
DTSTART;TZID=UTC:20260521T113000
DTEND;TZID=UTC:20260521T130000
DTSTAMP:20260425T094305
CREATED:20260424T210029Z
LAST-MODIFIED:20260424T210051Z
UID:3583-1779363000-1779368400@ihene.org
SUMMARY:Third Thursday Lunch & Learn
DESCRIPTION:Kelly Tichauer-Kirk will lead a thought-provoking discussion on the complexities of intergenerational trauma\, drawing from her graduate research in Holocaust and Genocide Studies and her personal family history as all four of her grandparents were Holocaust survivors. Through her presentation\, participants will gain deeper insight into how trauma reverberates through generations and the ongoing process of resilience and remembrance.\nKelly Tichauer-Kirk is a Realtor and Holocaust educator based in Omaha\, Nebraska. She is a partner of the Tichauer & Kirk Real Estate Group with Berkshire Hathaway HomeServices Ambassador Real Estate and has been serving clients for over 15 years. Kelly earned her Bachelor of Arts in Political Science from the University of Nebraska at Omaha in 1998\, graduated from the Randall School of Real Estate in 2010\, and completed her Master of Arts in Holocaust & Genocide Studies from Gratz College in Pennsylvania in 2025\, where her research and thesis explored intergenerational trauma in the third-generation Holocaust survivor population.\nA third-generation descendant of Holocaust survivors\, Kelly serves as Chair of the Advisory Board for the Institute for Holocaust Education and as a Nebraska Jewish Historical Society board member. She shares her family’s story through public speaking and education to inspire others and ensure the lessons of the Holocaust are never forgotten.\nFor more information on this event\, please contact\, Scott Littky\, executive director of the Institute for Holocaust Education at slittky@ihene.org
URL:https://ihene.org/event/third-thursday-lunch-learn/
LOCATION:ZOOM
ORGANIZER;CN="IHE":MAILTO:jnesbit@ihene.org
END:VEVENT
END:VCALENDAR