BEGIN:VCALENDAR
VERSION:2.0
PRODID:-//Institute for Holocaust Education - ECPv6.15.20//NONSGML v1.0//EN
CALSCALE:GREGORIAN
METHOD:PUBLISH
X-ORIGINAL-URL:https://ihene.org
X-WR-CALDESC:Events for Institute for Holocaust Education
REFRESH-INTERVAL;VALUE=DURATION:PT1H
X-Robots-Tag:noindex
X-PUBLISHED-TTL:PT1H
BEGIN:VTIMEZONE
TZID:UTC
BEGIN:STANDARD
TZOFFSETFROM:+0000
TZOFFSETTO:+0000
TZNAME:UTC
DTSTART:20240101T000000
END:STANDARD
END:VTIMEZONE
BEGIN:VEVENT
DTSTART;TZID=UTC:20251218T113000
DTEND;TZID=UTC:20251218T130000
DTSTAMP:20260424T052909
CREATED:20250814T155910Z
LAST-MODIFIED:20250814T155910Z
UID:3433-1766057400-1766062800@ihene.org
SUMMARY:December Lunch & Learn: Idan Zaccai
DESCRIPTION:Idan Zaccai\,  Holocaust Educator – Resistance is our featured speaker for December.  \nThis series is presented by the Institute for Holocaust Education and seeks to educate\, engage and empower the community through discussion\, presentations and informative speakers about topics pertaining to the Holocaust. All Third Thursday presentations are offered via Zoom\, from 11:30-1PM on their respective days. \nTo RSVP and gain access to the Zoom information for any of these IHE Third Thursday lunch and Learn programs\, please reach out to Scott Littky\, Executive Director of IHE\, at slittky@ihene.org \n 
URL:https://ihene.org/event/december-lunch-learn-idan-zaccai/
END:VEVENT
END:VCALENDAR