BEGIN:VCALENDAR
VERSION:2.0
PRODID:-//Institute for Holocaust Education - ECPv6.15.20//NONSGML v1.0//EN
CALSCALE:GREGORIAN
METHOD:PUBLISH
X-WR-CALNAME:Institute for Holocaust Education
X-ORIGINAL-URL:https://ihene.org
X-WR-CALDESC:Events for Institute for Holocaust Education
REFRESH-INTERVAL;VALUE=DURATION:PT1H
X-Robots-Tag:noindex
X-PUBLISHED-TTL:PT1H
BEGIN:VTIMEZONE
TZID:UTC
BEGIN:STANDARD
TZOFFSETFROM:+0000
TZOFFSETTO:+0000
TZNAME:UTC
DTSTART:20240101T000000
END:STANDARD
END:VTIMEZONE
BEGIN:VEVENT
DTSTART;TZID=UTC:20251016T113000
DTEND;TZID=UTC:20251016T130000
DTSTAMP:20260424T085634
CREATED:20250711T210354Z
LAST-MODIFIED:20250814T155150Z
UID:3409-1760614200-1760619600@ihene.org
SUMMARY:October Lunch & Learn: Micah Huyser - Executive Director at Nebraska Prairie Museum
DESCRIPTION:A discussion on the art exhibit of Thomas Naegele\, Scenes from an Internment Camp Indianola in Nebraska. \nThis series is presented by the Institute for Holocaust Education and seeks to educate\, engage\, and empower the community through discussion\, presentations\, and informative speakers about topics pertaining to the Holocaust and other genocides. \nAll Third Thursday presentations are offered via Zoom\, from 11:30-1PM on their respective days. \nFor more information regarding the Third Thursday programming at IHE\, to RSVP for a program\, or if you have any ideas for future programs\, please reach out to Scott Littky\, Executive Director of IHE\, at slittky@ihene.org 
URL:https://ihene.org/event/october-lunch-learn-beth-dotan/
END:VEVENT
END:VCALENDAR