BEGIN:VCALENDAR
VERSION:2.0
PRODID:-//Institute for Holocaust Education - ECPv6.15.20//NONSGML v1.0//EN
CALSCALE:GREGORIAN
METHOD:PUBLISH
X-ORIGINAL-URL:https://ihene.org
X-WR-CALDESC:Events for Institute for Holocaust Education
REFRESH-INTERVAL;VALUE=DURATION:PT1H
X-Robots-Tag:noindex
X-PUBLISHED-TTL:PT1H
BEGIN:VTIMEZONE
TZID:UTC
BEGIN:STANDARD
TZOFFSETFROM:+0000
TZOFFSETTO:+0000
TZNAME:UTC
DTSTART:20240101T000000
END:STANDARD
END:VTIMEZONE
BEGIN:VEVENT
DTSTART;VALUE=DATE:20250912
DTEND;VALUE=DATE:20250926
DTSTAMP:20260424T100621
CREATED:20250814T184851Z
LAST-MODIFIED:20250814T184851Z
UID:3439-1757635200-1758844799@ihene.org
SUMMARY:Anne Frank Traveling Exhibit: Missouri Valley Public Library
DESCRIPTION:
URL:https://ihene.org/event/anne-frank-traveling-exhibit-missouri-valley-public-library/
END:VEVENT
BEGIN:VEVENT
DTSTART;TZID=UTC:20250918T113000
DTEND;TZID=UTC:20250918T130000
DTSTAMP:20260424T100621
CREATED:20250711T210252Z
LAST-MODIFIED:20250711T210252Z
UID:3407-1758195000-1758200400@ihene.org
SUMMARY:September Lunch & Learn: Harmon Maples
DESCRIPTION:This series is presented by the Institute for Holocaust Education and seeks to educate\, engage\, and empower the community through discussion\, presentations\, and informative speakers about topics pertaining to the Holocaust and other genocides. \nAll Third Thursday presentations are offered via Zoom\, from 11:30-1PM on their respective days. \nFor more information regarding the Third Thursday programming at IHE\, to RSVP for a program\, or if you have any ideas for future programs\, please reach out to Scott Littky\, Executive Director of IHE\, at slittky@ihene.org 
URL:https://ihene.org/event/september-lunch-learn-harmon-maples/
END:VEVENT
END:VCALENDAR