BEGIN:VCALENDAR
VERSION:2.0
PRODID:-//Institute for Holocaust Education - ECPv6.15.20//NONSGML v1.0//EN
CALSCALE:GREGORIAN
METHOD:PUBLISH
X-WR-CALNAME:Institute for Holocaust Education
X-ORIGINAL-URL:https://ihene.org
X-WR-CALDESC:Events for Institute for Holocaust Education
REFRESH-INTERVAL;VALUE=DURATION:PT1H
X-Robots-Tag:noindex
X-PUBLISHED-TTL:PT1H
BEGIN:VTIMEZONE
TZID:UTC
BEGIN:STANDARD
TZOFFSETFROM:+0000
TZOFFSETTO:+0000
TZNAME:UTC
DTSTART:20240101T000000
END:STANDARD
END:VTIMEZONE
BEGIN:VEVENT
DTSTART;TZID=UTC:20250324T080000
DTEND;TZID=UTC:20250328T170000
DTSTAMP:20260424T073929
CREATED:20240610T134059Z
LAST-MODIFIED:20240610T134059Z
UID:3092-1742803200-1743181200@ihene.org
SUMMARY:Week of Understanding
DESCRIPTION:Week of Understanding is an annual educational initiative created by the Institute for Holocaust Education and the Omaha Public Schools. The week is designed to deliver Holocaust survivor testimony to a maximum number of students in one school week. During the week of March 24-28\, 2025\, we will have Holocaust survivors\, second generation (2G)\, and third generation (3G) speakers for schools across Nebraska and parts of Iowa. This program was made possible through the support of the Shirley & Leonard Goldstein Foundation\, Omaha Public Schools Foundations and the Jewish Federation of Omaha.
URL:https://ihene.org/event/week-of-understanding-3/
END:VEVENT
BEGIN:VEVENT
DTSTART;TZID=UTC:20250326T183000
DTEND;TZID=UTC:20250326T193000
DTSTAMP:20260424T073929
CREATED:20241007T200609Z
LAST-MODIFIED:20241007T200609Z
UID:3302-1743013800-1743017400@ihene.org
SUMMARY:Annual Lecture with the Durham Museum
DESCRIPTION:The Institute for Holocaust Education is honored to partner with the Durham Museum as a part of its annual Week of Understanding\, a week of programing and lectures where over 6\,000 people will hear the moving testimony of survivors of the Holocaust and second-generation survivors of the Holocaust. \n  \nRegistration through the Durham Museum\nAdvanced registration is required. Regular museum admission applies\, free for museum members! \nThree ways to register: \n\nOnline: Click on the green “Register” icon (Please note\, your registration is not complete until you’ve clicked the “Check Out” button)\nPhone: 402-444-5071\nEmail: reservations@DurhamMuseum.org
URL:https://ihene.org/event/annual-lecture-with-the-durham-museum/
LOCATION:The Durham Museum
END:VEVENT
END:VCALENDAR