BEGIN:VCALENDAR
VERSION:2.0
PRODID:-//Institute for Holocaust Education - ECPv6.15.20//NONSGML v1.0//EN
CALSCALE:GREGORIAN
METHOD:PUBLISH
X-ORIGINAL-URL:https://ihene.org
X-WR-CALDESC:Events for Institute for Holocaust Education
REFRESH-INTERVAL;VALUE=DURATION:PT1H
X-Robots-Tag:noindex
X-PUBLISHED-TTL:PT1H
BEGIN:VTIMEZONE
TZID:UTC
BEGIN:STANDARD
TZOFFSETFROM:+0000
TZOFFSETTO:+0000
TZNAME:UTC
DTSTART:20230101T000000
END:STANDARD
END:VTIMEZONE
BEGIN:VTIMEZONE
TZID:America/North_Dakota/Center
BEGIN:DAYLIGHT
TZOFFSETFROM:-0600
TZOFFSETTO:-0500
TZNAME:CDT
DTSTART:20230312T080000
END:DAYLIGHT
BEGIN:STANDARD
TZOFFSETFROM:-0500
TZOFFSETTO:-0600
TZNAME:CST
DTSTART:20231105T070000
END:STANDARD
BEGIN:DAYLIGHT
TZOFFSETFROM:-0600
TZOFFSETTO:-0500
TZNAME:CDT
DTSTART:20240310T080000
END:DAYLIGHT
BEGIN:STANDARD
TZOFFSETFROM:-0500
TZOFFSETTO:-0600
TZNAME:CST
DTSTART:20241103T070000
END:STANDARD
BEGIN:DAYLIGHT
TZOFFSETFROM:-0600
TZOFFSETTO:-0500
TZNAME:CDT
DTSTART:20250309T080000
END:DAYLIGHT
BEGIN:STANDARD
TZOFFSETFROM:-0500
TZOFFSETTO:-0600
TZNAME:CST
DTSTART:20251102T070000
END:STANDARD
END:VTIMEZONE
BEGIN:VEVENT
DTSTART;TZID=UTC:20240513T113000
DTEND;TZID=UTC:20240513T130000
DTSTAMP:20260425T111724
CREATED:20230512T161012Z
LAST-MODIFIED:20230512T161012Z
UID:2278-1715599800-1715605200@ihene.org
SUMMARY:Council Meeting
DESCRIPTION:
URL:https://ihene.org/event/council-meeting-5/
END:VEVENT
BEGIN:VEVENT
DTSTART;TZID=America/North_Dakota/Center:20240513T183000
DTEND;TZID=America/North_Dakota/Center:20240513T193000
DTSTAMP:20260425T111724
CREATED:20230512T161141Z
LAST-MODIFIED:20241002T153051Z
UID:2280-1715625000-1715628600@ihene.org
SUMMARY:Tribute to the Rescuers Essay Contest: Award Ceremony
DESCRIPTION:
URL:https://ihene.org/event/tribute-to-the-rescuers-essay-contest-award-ceremony/
END:VEVENT
END:VCALENDAR